BEGIN:VCALENDAR
VERSION:2.0
PRODID:-//The Life Center of Davidson County - ECPv6.15.17//NONSGML v1.0//EN
CALSCALE:GREGORIAN
METHOD:PUBLISH
X-ORIGINAL-URL:https://www.lifecenterdavidson.com
X-WR-CALDESC:Events for The Life Center of Davidson County
REFRESH-INTERVAL;VALUE=DURATION:PT1H
X-Robots-Tag:noindex
X-PUBLISHED-TTL:PT1H
BEGIN:VTIMEZONE
TZID:UTC
BEGIN:STANDARD
TZOFFSETFROM:+0000
TZOFFSETTO:+0000
TZNAME:UTC
DTSTART:20230101T000000
END:STANDARD
END:VTIMEZONE
BEGIN:VEVENT
DTSTART;TZID=UTC:20240110T110000
DTEND;TZID=UTC:20240110T123000
DTSTAMP:20260421T082415
CREATED:20231120T162651Z
LAST-MODIFIED:20231120T162651Z
UID:2932-1704884400-1704889800@www.lifecenterdavidson.com
SUMMARY:Davidson Caregiver Academy - Coping with Anticipatory Grief
DESCRIPTION:Grief is a natural emotional response to loss. Anticipatory grief is feelings of grief or loss that are felt before the loss actually happens. Gain a deeper understanding of this grieving process and learn how to cope during this Lunch and Learn with the Davidson Caregiver Academy. \nPreregistration is required 3 business days prior to this program. To register\, call 336-242-2290 or email dcsslex@davidsoncountync.gov.
URL:https://www.lifecenterdavidson.com/event/davidson-caregiver-academy-coping-with-anticipatory-grief/
LOCATION:Hospice of Davidson County\, 200 Hospice Way\, Lexington\, NC\, 27292\, United States
END:VEVENT
BEGIN:VEVENT
DTSTART;TZID=UTC:20240117T140000
DTEND;TZID=UTC:20240117T150000
DTSTAMP:20260421T082415
CREATED:20231120T173810Z
LAST-MODIFIED:20231120T173810Z
UID:2949-1705500000-1705503600@www.lifecenterdavidson.com
SUMMARY:Family Caregiver Support Group
DESCRIPTION:If you are caring for an Older/Disabled Adult and need support\, please join us. This support group is offered in a hybrid format so Caregivers will have the option to attend in-person or virtually via zoom. Registration is required to attend via zoom\, please email cpyle@lifecenterdavidson.com or call (336) 249-2155 to register. If you attend in person\, please use the gravel drive off Center Street to park. \nThis is a FREE support group.
URL:https://www.lifecenterdavidson.com/event/family-caregiver-support-group-4/
LOCATION:The Life Center of Davidson County\, 601 West Center Street\, Lexington\, NC\, 27292
END:VEVENT
BEGIN:VEVENT
DTSTART;TZID=UTC:20240118T133000
DTEND;TZID=UTC:20240118T143000
DTSTAMP:20260421T082415
CREATED:20231120T174552Z
LAST-MODIFIED:20231120T174552Z
UID:2971-1705584600-1705588200@www.lifecenterdavidson.com
SUMMARY:Parkinson's Support Group
DESCRIPTION:This is a monthly support group for individuals diagnosed with Parkinson’s and for those who are a caregiver to someone with Parkinson’s. \nThis is a FREE support group and is sponsored by The Life Center of Davidson County.
URL:https://www.lifecenterdavidson.com/event/parkinsons-support-group-30/
LOCATION:The Life Center of Davidson County\, 601 West Center Street\, Lexington\, NC\, 27292
END:VEVENT
BEGIN:VEVENT
DTSTART;TZID=UTC:20240123T130000
DTEND;TZID=UTC:20240123T140000
DTSTAMP:20260421T082415
CREATED:20231120T175814Z
LAST-MODIFIED:20231120T184200Z
UID:2994-1706014800-1706018400@www.lifecenterdavidson.com
SUMMARY:Grandparents Raising Grandchildren Support Group
DESCRIPTION:This is a monthly support group for Grandparents who have taken on the responsibility of raising their grandchild(ren). \nThis is a FREE support group.
URL:https://www.lifecenterdavidson.com/event/2994/
LOCATION:The Life Center of Davidson County\, 601 West Center Street\, Lexington\, NC\, 27292
END:VEVENT
END:VCALENDAR