BEGIN:VCALENDAR
VERSION:2.0
PRODID:-//The Life Center of Davidson County - ECPv6.15.17//NONSGML v1.0//EN
CALSCALE:GREGORIAN
METHOD:PUBLISH
X-WR-CALNAME:The Life Center of Davidson County
X-ORIGINAL-URL:https://www.lifecenterdavidson.com
X-WR-CALDESC:Events for The Life Center of Davidson County
REFRESH-INTERVAL;VALUE=DURATION:PT1H
X-Robots-Tag:noindex
X-PUBLISHED-TTL:PT1H
BEGIN:VTIMEZONE
TZID:UTC
BEGIN:STANDARD
TZOFFSETFROM:+0000
TZOFFSETTO:+0000
TZNAME:UTC
DTSTART:20180101T000000
END:STANDARD
END:VTIMEZONE
BEGIN:VEVENT
DTSTART;TZID=UTC:20190521T130000
DTEND;TZID=UTC:20190521T143000
DTSTAMP:20260420T072946
CREATED:20190215T155318Z
LAST-MODIFIED:20190215T155318Z
UID:235-1558443600-1558449000@www.lifecenterdavidson.com
SUMMARY:Caregiver Academy: Nine Wise - Your Personality as a Caregiver
DESCRIPTION:Nine Wise: Your Personality as a Caregiver \nIn this Caregiver Academy session\, attendees will learn about how your natural personality influences your caregiving behaviors using Enneagram tools for empowerment. \nAdmission is Requested and can be done:\nonline -WakeHealth.edu/BestHealth\nphone – 336.713.BEST (2378)\nemail – bhealth@wakehealth.edu
URL:https://www.lifecenterdavidson.com/event/caregiver-academy-nine-wise-your-personality-as-a-caregiver/
LOCATION:Wake Forest Baptist Health Lexington Medical Center – LiveWell Center\, 250 Hospital Drive\, Lexington\, NC\, 27292
END:VEVENT
BEGIN:VEVENT
DTSTART;TZID=UTC:20190516T140000
DTEND;TZID=UTC:20190516T140000
DTSTAMP:20260420T072946
CREATED:20190220T150505Z
LAST-MODIFIED:20190507T171617Z
UID:345-1558015200-1558015200@www.lifecenterdavidson.com
SUMMARY:Parkinson's Support Group
DESCRIPTION:  \n  \n  \n  \n  \n  \n  \n  \n  \n  \n  \n  \nThis is a monthly support group for folks dealing with Parkinson’s. \nThis is a FREE support group and is sponsored by The Life Center of Davidson County and TenderHearted Home Care. \nCare is available for the person with Parkinson’s\, if needed\, for a minimal fee. Contact The Life Center (336.249.2155) by the 3rd Monday of the month to schedule care.
URL:https://www.lifecenterdavidson.com/event/parkinsons-support-group/
LOCATION:The Life Center of Davidson County\, 601 West Center Street\, Lexington\, NC\, 27292
END:VEVENT
BEGIN:VEVENT
DTSTART;TZID=UTC:20190515T123000
DTEND;TZID=UTC:20190515T143000
DTSTAMP:20260420T072946
CREATED:20190408T140239Z
LAST-MODIFIED:20190408T140239Z
UID:714-1557923400-1557930600@www.lifecenterdavidson.com
SUMMARY:Powerful Tools for Caregivers Educational Series
DESCRIPTION:The Life Center of Davidson County is offering a six week educational series designed to provide you with the tools needed to care for yourself while caring for your loved one. \nThis Series offers tools to:\n– Help you to reduce stress\n– Communicate effectively\n– Take care of yourself\n– Reduce guilt\, anger\, and depression\n– Locate helpful resources\n– Help you relax\n– Increase your ability to make tough decisions\n– Balance your life \nRegistration is required and space is limited. To reserve your space\, please contact Nina Smith\, Fundraising Coordinator at (336) 249-2155 or nsmith@lifecenterdavidson.com. This educational series is offered at no charge with contributions graciously accepted. Lunch will be provided at no charge.
URL:https://www.lifecenterdavidson.com/event/powerful-tools-for-caregivers-educational-series-3/
LOCATION:The Life Center of Davidson County\, 601 West Center Street\, Lexington\, NC\, 27292
END:VEVENT
BEGIN:VEVENT
DTSTART;TZID=UTC:20190508T123000
DTEND;TZID=UTC:20190508T143000
DTSTAMP:20260420T072946
CREATED:20190408T140150Z
LAST-MODIFIED:20190408T140150Z
UID:712-1557318600-1557325800@www.lifecenterdavidson.com
SUMMARY:Powerful Tools for Caregivers Educational Series
DESCRIPTION:The Life Center of Davidson County is offering a six week educational series designed to provide you with the tools needed to care for yourself while caring for your loved one. \nThis Series offers tools to:\n– Help you to reduce stress\n– Communicate effectively\n– Take care of yourself\n– Reduce guilt\, anger\, and depression\n– Locate helpful resources\n– Help you relax\n– Increase your ability to make tough decisions\n– Balance your life \nRegistration is required and space is limited. To reserve your space\, please contact Nina Smith\, Fundraising Coordinator at (336) 249-2155 or nsmith@lifecenterdavidson.com. This educational series is offered at no charge with contributions graciously accepted. Lunch will be provided at no charge.
URL:https://www.lifecenterdavidson.com/event/powerful-tools-for-caregivers-educational-series-2/
LOCATION:The Life Center of Davidson County\, 601 West Center Street\, Lexington\, NC\, 27292
END:VEVENT
BEGIN:VEVENT
DTSTART;TZID=UTC:20190501T123000
DTEND;TZID=UTC:20190501T143000
DTSTAMP:20260420T072946
CREATED:20190408T140040Z
LAST-MODIFIED:20190408T140040Z
UID:709-1556713800-1556721000@www.lifecenterdavidson.com
SUMMARY:Powerful Tools for Caregivers Educational Series
DESCRIPTION:The Life Center of Davidson County is offering a six week educational series designed to provide you with the tools needed to care for yourself while caring for your loved one. \nThis Series offers tools to:\n– Help you to reduce stress\n– Communicate effectively\n– Take care of yourself\n– Reduce guilt\, anger\, and depression\n– Locate helpful resources\n– Help you relax\n– Increase your ability to make tough decisions\n– Balance your life \nRegistration is required and space is limited. To reserve your space\, please contact Nina Smith\, Fundraising Coordinator at (336) 249-2155 or nsmith@lifecenterdavidson.com. This educational series is offered at no charge with contributions graciously accepted. Lunch will be provided at no charge.
URL:https://www.lifecenterdavidson.com/event/powerful-tools-for-caregivers-educational-series/
LOCATION:The Life Center of Davidson County\, 601 West Center Street\, Lexington\, NC\, 27292
END:VEVENT
BEGIN:VEVENT
DTSTART;TZID=UTC:20190501T080000
DTEND;TZID=UTC:20190501T080000
DTSTAMP:20260420T072946
CREATED:20190220T152655Z
LAST-MODIFIED:20190220T152655Z
UID:366-1556697600-1556697600@www.lifecenterdavidson.com
SUMMARY:The Life Center Annual Campaign Kick Off
DESCRIPTION:Help us kick off our 2019 Annual Campaign!
URL:https://www.lifecenterdavidson.com/event/the-life-center-annual-campaign-kick-off/
LOCATION:The Life Center of Davidson County\, 601 West Center Street\, Lexington\, NC\, 27292
END:VEVENT
BEGIN:VEVENT
DTSTART;TZID=UTC:20190418T140000
DTEND;TZID=UTC:20190418T140000
DTSTAMP:20260420T072946
CREATED:20190220T150419Z
LAST-MODIFIED:20190320T152632Z
UID:343-1555596000-1555596000@www.lifecenterdavidson.com
SUMMARY:Parkinson's Support Group of Davidson County
DESCRIPTION:  \n  \n  \n  \n  \n  \nThis is a monthly support group for folks dealing with Parkinson’s. \nThis is a FREE support group and is sponsored by The Life Center of Davidson County and TenderHearted Home Care. \nCare is available for the person with Parkinson’s\, if needed\, for a minimal fee. Contact The Life Center (336.249.2155) by the 3rd Monday of the month to schedule care.
URL:https://www.lifecenterdavidson.com/event/parkinsons-support-group-of-davidson-county-2/
LOCATION:The Life Center of Davidson County\, 601 West Center Street\, Lexington\, NC\, 27292
END:VEVENT
BEGIN:VEVENT
DTSTART;TZID=UTC:20190417T140000
DTEND;TZID=UTC:20190417T140000
DTSTAMP:20260420T072946
CREATED:20190220T144314Z
LAST-MODIFIED:20190320T152533Z
UID:323-1555509600-1555509600@www.lifecenterdavidson.com
SUMMARY:Caregiver Support Group
DESCRIPTION:  \n  \n  \n  \n  \n  \n  \n  \n  \n  \n  \n  \n  \nIf you are caring for an Older/Disabled Adult and need support\, please come. \nFor more information\, please contact Catherine Pyle at 336.249.2155 or cpyle@lifecenterdavidson.com \nThis is a FREE support group.
URL:https://www.lifecenterdavidson.com/event/caregiver-support-group-2/
LOCATION:The Life Center of Davidson County\, 601 West Center Street\, Lexington\, NC\, 27292
END:VEVENT
BEGIN:VEVENT
DTSTART;TZID=UTC:20190416T130000
DTEND;TZID=UTC:20190416T143000
DTSTAMP:20260420T072946
CREATED:20190215T155113Z
LAST-MODIFIED:20190215T155113Z
UID:232-1555419600-1555425000@www.lifecenterdavidson.com
SUMMARY:Caregiver Academy: Advance Care Planning
DESCRIPTION:Advance Care Planning \nIn this Caregiver Academy session\, attendees will learn about health care power of attorney\, advance directive for a natural death (living will)\, DNR\, MOST\, Five Wishes and other gifts of planning ahead. \nAdmission is Requested and can be done:\nonline -WakeHealth.edu/BestHealth\nphone – 336.713.BEST (2378)\nemail – bhealth@wakehealth.edu
URL:https://www.lifecenterdavidson.com/event/caregiver-academy-advance-care-planning/
LOCATION:Wake Forest Baptist Health Lexington Medical Center – LiveWell Center\, 250 Hospital Drive\, Lexington\, NC\, 27292
END:VEVENT
BEGIN:VEVENT
DTSTART;TZID=UTC:20190321T140000
DTEND;TZID=UTC:20190321T140000
DTSTAMP:20260420T072946
CREATED:20190220T145630Z
LAST-MODIFIED:20190320T152442Z
UID:341-1553176800-1553176800@www.lifecenterdavidson.com
SUMMARY:Parkinson's Support Group of Davidson County
DESCRIPTION:  \n  \n  \n  \n  \n  \n  \n  \n  \n  \n  \nThis is a monthly support group for folks dealing with Parkinson’s. \nThis is a FREE support group and is sponsored by The Life Center of Davidson County and TenderHearted Home Care. \nCare is available for the person with Parkinson’s\, if needed\, for a minimal fee. Contact The Life Center (336.249.2155) by the 3rd Monday of the month to schedule care.
URL:https://www.lifecenterdavidson.com/event/parkinsons-support-group-of-davidson-county/
LOCATION:The Life Center of Davidson County\, 601 West Center Street\, Lexington\, NC\, 27292
END:VEVENT
BEGIN:VEVENT
DTSTART;TZID=UTC:20190320T140000
DTEND;TZID=UTC:20190320T140000
DTSTAMP:20260420T072946
CREATED:20190220T144204Z
LAST-MODIFIED:20190320T152241Z
UID:320-1553090400-1553090400@www.lifecenterdavidson.com
SUMMARY:Caregiver Support Group
DESCRIPTION:  \n  \n  \n  \n  \n  \nIf you are caring for an Older/Disabled Adult and need support\, please come. \nFor more information\, please contact Catherine Pyle at 336.249.2155 or cpyle@lifecenterdavidson.com \nThis is a FREE support group.
URL:https://www.lifecenterdavidson.com/event/caregiver-support-group/
LOCATION:The Life Center of Davidson County\, 601 West Center Street\, Lexington\, NC\, 27292
END:VEVENT
BEGIN:VEVENT
DTSTART;TZID=UTC:20190319T130000
DTEND;TZID=UTC:20190319T143000
DTSTAMP:20260420T072946
CREATED:20190215T154850Z
LAST-MODIFIED:20190215T154850Z
UID:230-1553000400-1553005800@www.lifecenterdavidson.com
SUMMARY:Caregiver Academy: The Sandwich Generation
DESCRIPTION:The Sandwich Generation \nIn this Caregiver Academy session\, attendees will learn about multi-tasking across generations – taking care of grandparents\, parents\, children and grandchildren. And what about taking care of yourself? \nAdmission is Requested and can be done:\nonline -WakeHealth.edu/BestHealth\nphone – 336.713.BEST (2378)\nemail – bhealth@wakehealth.edu
URL:https://www.lifecenterdavidson.com/event/caregiver-academy-the-sandwich-generation/
LOCATION:Wake Forest Baptist Health Lexington Medical Center – LiveWell Center\, 250 Hospital Drive\, Lexington\, NC\, 27292
END:VEVENT
BEGIN:VEVENT
DTSTART;TZID=UTC:20190316T183000
DTEND;TZID=UTC:20190316T183000
DTSTAMP:20260420T072946
CREATED:20190220T152517Z
LAST-MODIFIED:20190220T152517Z
UID:361-1552761000-1552761000@www.lifecenterdavidson.com
SUMMARY:Roast & Toast
DESCRIPTION:Join us for our 3rd Annual Roast and Toast! This is a ticketed event. Tickets are limited and can be purchased at The Life Center.
URL:https://www.lifecenterdavidson.com/event/roast-toast/
LOCATION:The Life Center of Davidson County\, 601 West Center Street\, Lexington\, NC\, 27292
END:VEVENT
BEGIN:VEVENT
DTSTART;TZID=UTC:20190219T130000
DTEND;TZID=UTC:20190219T143000
DTSTAMP:20260420T072946
CREATED:20190215T154555Z
LAST-MODIFIED:20190215T154555Z
UID:225-1550581200-1550586600@www.lifecenterdavidson.com
SUMMARY:Caregiver Academy: Community Resources A to Z
DESCRIPTION:Community Resources A to Z \nIn this Caregiver Academy session\, you will learn about in-home options and support to stay independent. \nAdmission is Requested and can be done:\nonline -WakeHealth.edu/BestHealth\nphone – 336.713.BEST (2378)\nemail – bhealth@wakehealth.edu
URL:https://www.lifecenterdavidson.com/event/caregiver-academy-community-resources-a-to-z/
LOCATION:Wake Forest Baptist Health Lexington Medical Center – LiveWell Center\, 250 Hospital Drive\, Lexington\, NC\, 27292
END:VEVENT
END:VCALENDAR